Workbook

Sheet Summary
B3: Project Name :- West Newton Rutland Apartments
B5: Location :- Bostan, MA
B7: Estimate Date :- 27th July 2018
B9: Estimator :- Thileepan Tharmalingam
B12: Roofing and Related Capentry Estimation
A14: Item No. | B14: Building Number | C14: Sub total | D14: Overhead & Profit 22% | E14: Insurance 3% | F14: Total Amount
B16: Building 1 | C16: =+Report!F31 -> 0 | D16: =+C16*0.22 -> 0 | E16: =+C16*0.03 -> 0 | F16: =+C16+D16+E16 -> 0
B17: Building 2 | C17: =+Report!F51 -> 0 | D17: =+C17*0.22 -> 0 | E17: =+C17*0.03 -> 0 | F17: =+C17+D17+E17 -> 0
B18: Building 3 | C18: =+Report!F71 -> 0 | D18: =+C18*0.22 -> 0 | E18: =+C18*0.03 -> 0 | F18: =+C18+D18+E18 -> 0
B19: Building 4 | C19: =+Report!F91 -> 0 | D19: =+C19*0.22 -> 0 | E19: =+C19*0.03 -> 0 | F19: =+C19+D19+E19 -> 0
B20: Building 5 | C20: =+Report!F111 -> 0 | D20: =+C20*0.22 -> 0 | E20: =+C20*0.03 -> 0 | F20: =+C20+D20+E20 -> 0
B21: Building 6 | C21: =+Report!F134 -> 0 | D21: =+C21*0.22 -> 0 | E21: =+C21*0.03 -> 0 | F21: =+C21+D21+E21 -> 0
B22: Building 7 | C22: =+Report!F158 -> 0 | D22: =+C22*0.22 -> 0 | E22: =+C22*0.03 -> 0 | F22: =+C22+D22+E22 -> 0
B23: Building 8 | C23: =+Report!F182 -> 0 | D23: =+C23*0.22 -> 0 | E23: =+C23*0.03 -> 0 | F23: =+C23+D23+E23 -> 0
B24: Building 9 | C24: =+Report!F206 -> 0 | D24: =+C24*0.22 -> 0 | E24: =+C24*0.03 -> 0 | F24: =+C24+D24+E24 -> 0
B25: Building 10 | C25: =+Report!F230 -> 0 | D25: =+C25*0.22 -> 0 | E25: =+C25*0.03 -> 0 | F25: =+C25+D25+E25 -> 0
B26: Building 11 | C26: =+Report!F254 -> 0 | D26: =+C26*0.22 -> 0 | E26: =+C26*0.03 -> 0 | F26: =+C26+D26+E26 -> 0
B27: Building 12 | C27: =+Report!F277 -> 0 | D27: =+C27*0.22 -> 0 | E27: =+C27*0.03 -> 0 | F27: =+C27+D27+E27 -> 0
B28: Building 13 | C28: =+Report!F295 -> 0 | D28: =+C28*0.22 -> 0 | E28: =+C28*0.03 -> 0 | F28: =+C28+D28+E28 -> 0
B29: Building 14 | C29: =+Report!F316 -> 0 | D29: =+C29*0.22 -> 0 | E29: =+C29*0.03 -> 0 | F29: =+C29+D29+E29 -> 0
B30: Building 15 | C30: =+Report!F337 -> 0 | D30: =+C30*0.22 -> 0 | E30: =+C30*0.03 -> 0 | F30: =+C30+D30+E30 -> 0
B31: Building 16 | C31: =+Report!F358 -> 0 | D31: =+C31*0.22 -> 0 | E31: =+C31*0.03 -> 0 | F31: =+C31+D31+E31 -> 0
B32: Building 17 | C32: =+Report!F379 -> 0 | D32: =+C32*0.22 -> 0 | E32: =+C32*0.03 -> 0 | F32: =+C32+D32+E32 -> 0
B33: Building 18 | C33: =+Report!F400 -> 0 | D33: =+C33*0.22 -> 0 | E33: =+C33*0.03 -> 0 | F33: =+C33+D33+E33 -> 0
B34: Building 19 | C34: =+Report!F418 -> 0 | D34: =+C34*0.22 -> 0 | E34: =+C34*0.03 -> 0 | F34: =+C34+D34+E34 -> 0
B35: Building 20 | C35: =+Report!F437 -> 0 | D35: =+C35*0.22 -> 0 | E35: =+C35*0.03 -> 0 | F35: =+C35+D35+E35 -> 0
B36: Building 21 | C36: =+Report!F456 -> 0 | D36: =+C36*0.22 -> 0 | E36: =+C36*0.03 -> 0 | F36: =+C36+D36+E36 -> 0
B37: Building 22 | C37: =+Report!F475 -> 0 | D37: =+C37*0.22 -> 0 | E37: =+C37*0.03 -> 0 | F37: =+C37+D37+E37 -> 0
B38: Building 23 | C38: =+Report!F493 -> 0 | D38: =+C38*0.22 -> 0 | E38: =+C38*0.03 -> 0 | F38: =+C38+D38+E38 -> 0
B39: Building 24 | C39: =+Report!F512 -> 0 | D39: =+C39*0.22 -> 0 | E39: =+C39*0.03 -> 0 | F39: =+C39+D39+E39 -> 0
B40: Building 25 | C40: =+Report!F530 -> 0 | D40: =+C40*0.22 -> 0 | E40: =+C40*0.03 -> 0 | F40: =+C40+D40+E40 -> 0
B41: Building 26 | C41: =+Report!F543 -> 0 | D41: =+C41*0.22 -> 0 | E41: =+C41*0.03 -> 0 | F41: =+C41+D41+E41 -> 0
B42: Building 27 | C42: =+Report!F561 -> 0 | D42: =+C42*0.22 -> 0 | E42: =+C42*0.03 -> 0 | F42: =+C42+D42+E42 -> 0
F43: =SUM(F16:F43) -> 0
B44: Grand Total

Sheet Report
B2: Project Name :-
B4: Location :-
B6: Estimate Date :-
B8: Estimator :-
B10: Roofing and Related Capentry Estimation
A12: Item No. | B12: Description | C12: Unit | D12: Quantity | E12: Unit Rate | F12: Amount
B14: Building 1
B15: Roof
B16: 4" x 5" Aluminum Ogee Gutter W/4" Roof Flange | C16: L.ft | D16: 25 | F16: =D16*E16 -> 0
B17: 0.032" thick Aluminium Fascia Complete with Base Board | C17: L.ft | D17: 36 | F17: =D17*E17 -> 0
B18: 2 x 8 Wood Blocking | C18: L.ft | D18: 80 | F18: =D18*E18 -> 0
B19: Skylight with Framing | C19: Nos | D19: 1 | F19: =D19*E19 -> 0
B20: Preformed Flashing Boot | C20: Nos | D20: 2 | F20: =D20*E20 -> 0
B21: 16 Guage Copper Facia | C21: L.ft | D21: 37 | F21: =D21*E21 -> 0
B22: 6'' Wide P.T Wood Blocking to Match Insulation Depth | C22: L.ft | D22: 16 | F22: =D22*E22 -> 0
B24: Asphalt Shingles Complete with Plywood Board | C24: Sq.ft | D24: 91 | F24: =D24*E24 -> 0
B25: Flat Roof | C25: Sq.ft | D25: 908
B26: Rigid Isocyanurate Insulation Mech Fastened | C26: Sq.ft | D26: =D25 -> 908 | F26: =D26*E26 -> 0
B27: Vapor Barrier | C27: Sq.ft | D27: =D26 -> 908 | F27: =D27*E27 -> 0
B28: 1/2'' Cover Board | C28: Sq.ft | D28: =D27 -> 908 | F28: =D28*E28 -> 0
B29: Fully Adhered TPO Roof Membrane | C29: Sq.ft | D29: =D27 -> 908 | F29: =D29*E29 -> 0
B31: Sub total | F31: =SUM(F16:F30) -> 0
B32: Add Overhead & Profit 22% + Insurance 3% | F32: =+F31*0.25 -> 0
B33: Total | F33: =+F32+F31 -> 0
B35: Building 2
B36: Roof
B37: 4" x 5" Aluminum Ogee Gutter W/4" Roof Flange | C37: L.ft | D37: 21 | F37: =D37*E37 -> 0
B38: 2 x 8 Wood Blocking | C38: L.ft | D38: 40 | F38: =D38*E38 -> 0
B39: Skylight with Framing | C39: Nos | D39: 1 | F39: =D39*E39 -> 0
B40: Preformed Flashing Boot | C40: Nos | D40: 2 | F40: =D40*E40 -> 0
B41: 16 Guage Copper Facia | C41: L.ft | D41: 22 | F41: =D41*E41 -> 0
B42: 6'' Wide P.T Wood Blocking to Match Insulation Depth | C42: L.ft | D42: 16 | F42: =D42*E42 -> 0
B44: Asphalt Shingles Complete with Plywood Board | C44: Sq.ft | D44: 96 | F44: =D44*E44 -> 0
B45: Flat Roof | C45: Sq.ft | D45: 927
B46: Rigid Isocyanurate Insulation Mech Fastened | C46: Sq.ft | D46: =D45 -> 927 | F46: =D46*E46 -> 0
B47: Vapor Barrier | C47: Sq.ft | D47: =D46 -> 927 | F47: =D47*E47 -> 0
B48: 1/2'' Cover Board | C48: Sq.ft | D48: =D47 -> 927 | F48: =D48*E48 -> 0
B49: Fully Adhered TPO Roof Membrane | C49: Sq.ft | D49: =D48 -> 927 | F49: =D49*E49 -> 0
B51: Sub total | F51: =SUM(F36:F50) -> 0
B52: Add Overhead & Profit 22% + Insurance 3% | F52: =+F51*0.25 -> 0
B53: Total | F53: =+F52+F51 -> 0
B55: Building 3
B56: Roof
B57: 4" x 5" Aluminum Ogee Gutter W/4" Roof Flange | C57: L.ft | D57: 21 | F57: =D57*E57 -> 0
B58: 2 x 8 Wood Blocking | C58: L.ft | D58: 40 | F58: =D58*E58 -> 0
B59: Skylight with Framing | C59: Nos | D59: 1 | F59: =D59*E59 -> 0
B60: Preformed Flashing Boot | C60: Nos | D60: 2 | F60: =D60*E60 -> 0
B61: 16 Guage Copper Facia | C61: L.ft | D61: 22 | F61: =D61*E61 -> 0
B62: 6'' Wide P.T Wood Blocking to Match Insulation Depth | C62: L.ft | D62: 16 | F62: =D62*E62 -> 0
B64: Asphalt Shingles Complete with Plywood Board | C64: Sq.ft | D64: 96 | F64: =D64*E64 -> 0
B65: Flat Roof | C65: Sq.ft | D65: 927
B66: Rigid Isocyanurate Insulation Mech Fastened | C66: Sq.ft | D66: =D65 -> 927 | F66: =D66*E66 -> 0
B67: Vapor Barrier | C67: Sq.ft | D67: =D66 -> 927 | F67: =D67*E67 -> 0
B68: 1/2'' Cover Board | C68: Sq.ft | D68: =D67 -> 927 | F68: =D68*E68 -> 0
B69: Fully Adhered TPO Roof Membrane | C69: Sq.ft | D69: =D68 -> 927 | F69: =D69*E69 -> 0
B71: Sub total | F71: =SUM(F56:F70) -> 0
B72: Add Overhead & Profit 22% + Insurance 3% | F72: =+F71*0.25 -> 0
B73: Total | F73: =+F72+F71 -> 0
B75: Building 4
B76: Roof
B77: 4" x 5" Aluminum Ogee Gutter W/4" Roof Flange | C77: L.ft | D77: 21 | F77: =D77*E77 -> 0
B78: 2 x 8 Wood Blocking | C78: L.ft | D78: 40 | F78: =D78*E78 -> 0
B79: Skylight with Framing | C79: Nos | D79: 1 | F79: =D79*E79 -> 0
B80: Preformed Flashing Boot | C80: Nos | D80: 2 | F80: =D80*E80 -> 0
B81: 16 Guage Copper Facia | C81: L.ft | D81: 22 | F81: =D81*E81 -> 0
B82: 6'' Wide P.T Wood Blocking to Match Insulation Depth | C82: L.ft | D82: 16 | F82: =D82*E82 -> 0
B84: Asphalt Shingles Complete with Plywood Board | C84: Sq.ft | D84: 96 | F84: =D84*E84 -> 0
B85: Flat Roof | C85: Sq.ft | D85: 927
B86: Rigid Isocyanurate Insulation Mech Fastened | C86: Sq.ft | D86: =D85 -> 927 | F86: =D86*E86 -> 0
B87: Vapor Barrier | C87: Sq.ft | D87: =D86 -> 927 | F87: =D87*E87 -> 0
B88: 1/2'' Cover Board | C88: Sq.ft | D88: =D87 -> 927 | F88: =D88*E88 -> 0
B89: Fully Adhered TPO Roof Membrane | C89: Sq.ft | D89: =D88 -> 927 | F89: =D89*E89 -> 0
B91: Sub total | F91: =SUM(F76:F90) -> 0
B92: Add Overhead & Profit 22% + Insurance 3% | F92: =+F91*0.25 -> 0
B93: Total | F93: =+F92+F91 -> 0
B95: Building 5
B96: Roof
B97: 4" x 5" Aluminum Ogee Gutter W/4" Roof Flange | C97: L.ft | D97: 21 | F97: =D97*E97 -> 0
B98: 2 x 8 Wood Blocking | C98: L.ft | D98: 40 | F98: =D98*E98 -> 0
B99: Skylight with Framing | C99: Nos | D99: 1 | F99: =D99*E99 -> 0
B100: Preformed Flashing Boot | C100: Nos | D100: 2 | F100: =D100*E100 -> 0
B101: 16 Guage Copper Facia | C101: L.ft | D101: 22 | F101: =D101*E101 -> 0
B102: 6'' Wide P.T Wood Blocking to Match Insulation Depth | C102: L.ft | D102: 16 | F102: =D102*E102 -> 0
B104: Asphalt Shingles Complete with Plywood Board | C104: Sq.ft | D104: 77 | F104: =D104*E104 -> 0
B105: Flat Roof | C105: Sq.ft | D105: 927
B106: Rigid Isocyanurate Insulation Mech Fastened | C106: Sq.ft | D106: =D105 -> 927 | F106: =D106*E106 -> 0
B107: Vapor Barrier | C107: Sq.ft | D107: =D106 -> 927 | F107: =D107*E107 -> 0
B108: 1/2'' Cover Board | C108: Sq.ft | D108: =D107 -> 927 | F108: =D108*E108 -> 0
B109: Fully Adhered TPO Roof Membrane | C109: Sq.ft | D109: =D108 -> 927 | F109: =D109*E109 -> 0
B111: Sub total | F111: =SUM(F96:F110) -> 0
B112: Add Overhead & Profit 22% + Insurance 3% | F112: =+F111*0.25 -> 0
B113: Total | F113: =+F112+F111 -> 0
B115: Building 6
B116: Roof
B117: 4" x 5" Aluminum Ogee Gutter W/4" Roof Flange | C117: L.ft | D117: 58 | F117: =D117*E117 -> 0
B118: 0.032" thick Aluminium Fascia Complete with Base Board | C118: L.ft | D118: 20 | F118: =D118*E118 -> 0
B119: 2 x 8 Wood Blocking | C119: L.ft | D119: 63 | F119: =D119*E119 -> 0
B120: Skylight with Framing | C120: Nos | D120: 1 | F120: =D120*E120 -> 0
B121: Preformed Flashing Boot | C121: Nos | D121: 2 | F121: =D121*E121 -> 0
B122: 16 Guage Copper Facia | C122: L.ft | D122: 25 | F122: =D122*E122 -> 0
...
